BEGIN:VCALENDAR
VERSION:2.0
PRODID:-//wp-events-plugin.com//7.2.3.1//EN
TZID:Europe/Berlin
X-WR-TIMEZONE:Europe/Berlin
BEGIN:VEVENT
UID:21@kfv-los.de
DTSTART;TZID=Europe/Berlin:20210527T190000
DTEND;TZID=Europe/Berlin:20210527T213000
DTSTAMP:20210518T052643Z
URL:https://kfv-los.de/termine/status-5-die-sprechstunde-des-kfv-los/
SUMMARY:Status 5 - Die Sprechstunde des KFV-LOS
DESCRIPTION:Jeden vierten Donnerstag im Monat gibt es die Möglichkeit\, si
 ch direkt mit dem Vorstand auszutauschen.
CATEGORIES:Seminare
LOCATION:Cisco Webex Meetings\, World Wide Web (Internet)\, Online (Webex)\
 , Deutschland
X-APPLE-STRUCTURED-LOCATION;VALUE=URI;X-ADDRESS=World Wide Web (Internet)\,
  Online (Webex)\, Deutschland;X-APPLE-RADIUS=100;X-TITLE=Cisco Webex Meeti
 ngs:geo:0,0
END:VEVENT
BEGIN:VTIMEZONE
TZID:Europe/Berlin
X-LIC-LOCATION:Europe/Berlin
BEGIN:DAYLIGHT
DTSTART:20210328T030000
TZOFFSETFROM:+0100
TZOFFSETTO:+0200
TZNAME:CEST
END:DAYLIGHT
END:VTIMEZONE
END:VCALENDAR