BEGIN:VCALENDAR
VERSION:2.0
PRODID:-//wp-events-plugin.com//7.2.3.1//EN
TZID:Europe/Berlin
X-WR-TIMEZONE:Europe/Berlin
BEGIN:VEVENT
UID:29@kfv-los.de
DTSTART;TZID=Europe/Berlin:20220124T190000
DTEND;TZID=Europe/Berlin:20220124T203000
DTSTAMP:20220123T195533Z
URL:https://kfv-los.de/termine/seminar-eisrettung-2/
SUMMARY:Seminar Eisrettung
DESCRIPTION:Nachdem wir bereits im Theorieteil einige Kameradinnen und Kame
 raden des Seminars zum Thema Eisrettung durchgeführt haben\, bieten wir w
 eiteren Kameradinnen und Kameraden die Möglichkeit\, am Seminar teilzuneh
 men. Der theoretische Teil wird erneut als Online-Sitzung durchgeführt. D
 er praktischen Teil wird gemeinsam mit der ersten Gruppe als Präsenzveran
 staltung am 19.02.2022 von 10 bis etwa 15 Uhr am Petersdorfer See durchgef
 ührt.\nThematisch wird es dabei um die Gefährdungen bei der Eisrettung\,
  Rettung von Land\, Schutzanzüge gegen Unterkühlen im Wasser (Eisrettung
 sanzüge\, Überlebens- / Kälteschutzanzüge)\, Bergetod (afterdrop-death
 )\, u.v.m gehen.\n\nPersonenkreis: Feuerwehrleute\, Führungspersonal\, Sa
 chbearbeiter Brandschutz\n\nAnmeldungen ab sofort möglich. Bitte dabei be
 achten\, dass sich jeder Teilnehmer mit seiner privaten E-Mail Adresse und
  Telefonnummer anmelden muss\, auch wenn im Meeting mehrere Personen gemei
 nsam dem Meeting vor einem Beamer folgen. Einerseits werden wir die Teilne
 hmer bei technischen Problemen direkt informieren. Ausserdem versenden wir
  im Nachgang Material und die Teilnahmebestätigungen persönlich an alle 
 Teilnehmer. Jeder entscheidet dann selber\, ob und wie diese Unterlagen we
 itergeleitet werden. Anmeldungen von mehreren Personen über eine einzige 
 E-Mail Adresse (z.B. die des Trägers) und/oder Telefonnummer sind nicht e
 rlaubt.\n\nHinweis: Ohne Theorieteil ist kein Praxisteil möglich.
CATEGORIES:Seminare
LOCATION:Cisco Webex Meetings\, World Wide Web (Internet)\, Online (Webex)\
 , Deutschland
X-APPLE-STRUCTURED-LOCATION;VALUE=URI;X-ADDRESS=World Wide Web (Internet)\,
  Online (Webex)\, Deutschland;X-APPLE-RADIUS=100;X-TITLE=Cisco Webex Meeti
 ngs:geo:0,0
END:VEVENT
BEGIN:VTIMEZONE
TZID:Europe/Berlin
X-LIC-LOCATION:Europe/Berlin
BEGIN:STANDARD
DTSTART:20211031T020000
TZOFFSETFROM:+0200
TZOFFSETTO:+0100
TZNAME:CET
END:STANDARD
END:VTIMEZONE
END:VCALENDAR