BEGIN:VCALENDAR
VERSION:2.0
PRODID:-//wp-events-plugin.com//7.2.3.1//EN
TZID:Europe/Berlin
X-WR-TIMEZONE:Europe/Berlin
BEGIN:VEVENT
UID:16@kfv-los.de
DTSTART;TZID=Europe/Berlin:20210531T190000
DTEND;TZID=Europe/Berlin:20210531T203000
DTSTAMP:20210525T231043Z
URL:https://kfv-los.de/termine/online-seminar-schneechaos-und-stromnotstan
 d-2/
SUMMARY:Online Seminar Schneechaos und Stromnotstand
DESCRIPTION:Im Verlauf des Nachmittags am 25.11.2005 kommt es in weiten Ber
 eichen des Münsterlandes zu erheblichen Schneefällen. Das über Belgien\
 , die Niederlande und Nordrhein-Westfalen langsam hinwegziehende Tiefdruck
 gebiet "Thorsten" hinterlässt speziell im Münsterland große Mengen Schn
 ee.\n\nSchneechaos und Stromnotstand im Kreis Steinfurt vom 25.11.2005 bis
  03.12.2005. Wie das Wetter in NRW zum Chaos und zu tagelangen Stromausfä
 llen geführt hat und was man daraus gelernt hat - Ein Erfahrungsbericht d
 es damaligen Kreisbrandmeisters Brandoberamtsrat a.D. Bernhard Duesmann.\n
 \nWir freuen uns auf spannende Online-Seminare.\n\nLos geht es um 19:00 Uh
 r über Webex. Die Zugangslinks werden mit der Buchungsbestätigung versen
 det.
CATEGORIES:Seminare
LOCATION:Cisco Webex Meetings\, World Wide Web (Internet)\, Online (Webex)\
 , Deutschland
X-APPLE-STRUCTURED-LOCATION;VALUE=URI;X-ADDRESS=World Wide Web (Internet)\,
  Online (Webex)\, Deutschland;X-APPLE-RADIUS=100;X-TITLE=Cisco Webex Meeti
 ngs:geo:0,0
END:VEVENT
BEGIN:VTIMEZONE
TZID:Europe/Berlin
X-LIC-LOCATION:Europe/Berlin
BEGIN:DAYLIGHT
DTSTART:20210328T030000
TZOFFSETFROM:+0100
TZOFFSETTO:+0200
TZNAME:CEST
END:DAYLIGHT
END:VTIMEZONE
END:VCALENDAR