BEGIN:VCALENDAR
VERSION:2.0
PRODID:-//wp-events-plugin.com//7.2.3.1//EN
TZID:Europe/Berlin
X-WR-TIMEZONE:Europe/Berlin
BEGIN:VEVENT
UID:8@kfv-los.de
DTSTART;TZID=Europe/Berlin:20210329T190000
DTEND;TZID=Europe/Berlin:20210329T203000
DTSTAMP:20210327T152609Z
URL:https://kfv-los.de/termine/online-seminar-einsatznachsorge-teil-2/
SUMMARY:Online-Seminar Einsatznachsorge - Teil 2
DESCRIPTION:Leid und Not vieler Menschen - das sehen die Einsatzkräfte bei
  Feuerwehr\, Polizei und Rettungsdiensten sehr oft in ihren Einsätzen. Wi
 e können Folgeerscheinungen bei besonders schweren Einsätzen verarbeitet
  werden? Wie erkennt man Belastungsstörung bei den Kamerad*innen und wie 
 kann man diese ansprechen bzw. wie verhält man sich in solchen Situatione
 n?\n\nDurch das Online-Seminar führt:\n\n 	Frank Kersten\, Vorsitzender K
 FV-LOS\, langjähriges Mitglied ENT Land Brandenburg\n 	Uwe Vollmar\, 2. S
 tellvertreter und fachliche Leitung des ENT Land Brandenbrurg\n\nDas Semin
 ar ist kostenfrei. Da wir im Anschluss an das Seminar Teilnahmebestätigun
 gen versenden\, ist es wichtig\, alle Felder vollständig auszufüllen.\n\
 nIm Feld "Kommentar" bitte die Feuerwehr oder die Organisation eintragen.
CATEGORIES:Seminare
LOCATION:Cisco Webex Meetings\, World Wide Web (Internet)\, Online (Webex)\
 , Deutschland
X-APPLE-STRUCTURED-LOCATION;VALUE=URI;X-ADDRESS=World Wide Web (Internet)\,
  Online (Webex)\, Deutschland;X-APPLE-RADIUS=100;X-TITLE=Cisco Webex Meeti
 ngs:geo:0,0
END:VEVENT
BEGIN:VTIMEZONE
TZID:Europe/Berlin
X-LIC-LOCATION:Europe/Berlin
BEGIN:DAYLIGHT
DTSTART:20210328T030000
TZOFFSETFROM:+0100
TZOFFSETTO:+0200
TZNAME:CEST
END:DAYLIGHT
END:VTIMEZONE
END:VCALENDAR