BEGIN:VCALENDAR
VERSION:2.0
PRODID:-//wp-events-plugin.com//7.2.3.1//EN
TZID:Europe/Berlin
X-WR-TIMEZONE:Europe/Berlin
BEGIN:VEVENT
UID:18@kfv-los.de
DTSTART;TZID=Europe/Berlin:20210519T183000
DTEND;TZID=Europe/Berlin:20210519T210000
DTSTAMP:20210511T200615Z
URL:https://kfv-los.de/termine/juleica-durchgang-2/
SUMMARY:Juleica Durchgang 2
DESCRIPTION:Die Juleica Online Seminare sind in 2 Durchgängen geplant. Die
 s ist Teil 1 Durchgang 2.\n\nDie Daten für diesen Durchgang sind: 19.05. 
 / 26.05. / 08.06. / 10.06. / 14.06. / 16.06. / 18.06. / 22.06.2021 jeweils
  18:30 - 21:00 Uhr.\n\nThemen:\n\n 	Modul 1: Kennenlernen\, Organisatorisc
 hen\, Grundlagen für den Erwerb der juleica\, Inhalte und Ablauf der Ausb
 ildung\n 	Modul 2: Kompetenzen\, Aufgaben und Verantwortlichkeiten eine/r 
 Jugendleiters/in\n 	Modul 3: Grundlagen und Struktur der Jugendfeuerwehr\n
  	Modul 4: Entwicklung von Kindern und Jugendlichen\n 	Modul 5: Gruppendyn
 amik und Umgang mit Kindern und Jugendlichen\n 	Modul 6: Aufsichtspflicht 
 und Haftung I\n 	Modul 7: Aufsichtspflicht und Haftung II\n 	Modul 8: Kind
 eswohl und Jugendschutz\n\nWichtig: Anmeldungen können entweder für Durc
 hgang 1 ODER Durchgang 2 erfolgen.\n\nDer Preis für die Juleica Ausbildun
 g (Teil 1 und Teil 2 gesamt) beträgt 25\,00 EUR je Teilnehmer. Eine Rechn
 ung ergeht im Anschluss an die Ausbildung als Sammelrechnung an den Träge
 r des Brandschutzes\, zu dem die / der Teilnehmende gehört.\n\nBitte beac
 hten: Die Buchung ist verbindlich. Die Kosten werden auch bei Nichtteilnah
 me in Rechnung gestellt.
CATEGORIES:Seminare
LOCATION:Zoom Meeting\, World Wide Web (Internet)\, Online (Zoom)\, Deutsch
 land
X-APPLE-STRUCTURED-LOCATION;VALUE=URI;X-ADDRESS=World Wide Web (Internet)\,
  Online (Zoom)\, Deutschland;X-APPLE-RADIUS=100;X-TITLE=Zoom Meeting:geo:0
 ,0
END:VEVENT
BEGIN:VTIMEZONE
TZID:Europe/Berlin
X-LIC-LOCATION:Europe/Berlin
BEGIN:DAYLIGHT
DTSTART:20210328T030000
TZOFFSETFROM:+0100
TZOFFSETTO:+0200
TZNAME:CEST
END:DAYLIGHT
END:VTIMEZONE
END:VCALENDAR