BEGIN:VCALENDAR
VERSION:2.0
PRODID:-//wp-events-plugin.com//7.2.3.1//EN
TZID:Europe/Berlin
X-WR-TIMEZONE:Europe/Berlin
BEGIN:VEVENT
UID:67@kfv-los.de
DTSTART;TZID=Europe/Berlin;VALUE=DATE:20250726
DTEND;TZID=Europe/Berlin;VALUE=DATE:20250727
DTSTAMP:20250206T210311Z
URL:https://kfv-los.de/termine/geraetehauseinweihung-und-blaulichtparty/
SUMMARY:Gerätehauseinweihung und Blaulichtparty Beeskow
DESCRIPTION:Gerätehauseinweihung\, Tag der offen Tür und Blaulichtparty d
 es Löschzuges Beeskow
CATEGORIES:Termine
END:VEVENT
BEGIN:VTIMEZONE
TZID:Europe/Berlin
X-LIC-LOCATION:Europe/Berlin
BEGIN:DAYLIGHT
DTSTART:20250330T030000
TZOFFSETFROM:+0100
TZOFFSETTO:+0200
TZNAME:CEST
END:DAYLIGHT
END:VTIMEZONE
END:VCALENDAR