BEGIN:VCALENDAR
VERSION:2.0
PRODID:-//wp-events-plugin.com//7.2.3.1//EN
TZID:Europe/Berlin
X-WR-TIMEZONE:Europe/Berlin
BEGIN:VEVENT
UID:42@kfv-los.de
DTSTART;TZID=Europe/Berlin:20220923T170000
DTEND;TZID=Europe/Berlin:20220924T170000
DTSTAMP:20220916T185812Z
URL:https://kfv-los.de/termine/feuerwehr-bootsfuehrerfortbildung/
SUMMARY:Feuerwehr Bootsführerfortbildung
DESCRIPTION:Wir haben eine Fortbildung für Bootsführer im Feuerwehrumfeld
  organisiert. Daher richtet sich diese Fortbildung vornehmlich an Feuerweh
 rleute\, die Mitglieder des KFV-LOS sind und die bereits im Besitz eines B
 ootsführerscheines (z.B. Sportbootführerschein binnen) sind. Die Kosten 
 dafür übernimmt der KFV-LOS.\n\nEs gibt dabei einen theoretischen Teil a
 m Freitag\, 23.09.2022. Dieser wird in der Feuerwehr Woltersdorf stattfind
 en.\n\nDiese gliedert sich in die Themenkomplexe "UVV\, Rechtliche Grundla
 gen und Änderungen"\, "Suchen mit Sonargeräten und Suchhunden" und "Zusa
 mmenarbeit mit Tauchern und Wasserschutzpolizei". Unterstützt werden wir 
 dabei von FAFZN Oskar Puch\, der SEG-W Barnim\, den Tauchern des Landkreis
 es Oder-Spree und der Wasserschutzpolizei Brandenburg.\n\nFür den praktis
 chen Teil wird es dann ebenfalls am 23.09.2022 abends im Dunkeln an den Fl
 akensee in Woltersdorf gehen. Hierbei geht es um das Bilden von Suchketten
  und Menschenrettung. Am zweiten Tag findet ein Stationsbetrieb statt. Die
 se sind verteilt auf dem Flakensee in Woltersdorf\, dem Kalksee in Rüders
 orf und dem Dämeritzsee in Erkner. Die zu bewältigen Praxisübungen best
 ehen aus Schleppen\, Anlegen und Steuern auf engem Raum\, standortgenaues 
 Ankern und auch Schleusen. Am Nachmittag werden dann noch Übungen zum Boo
 te slippen ausgeführt.\n\nFür die Verpflegung ist gesorgt. Schlafplätze
  sind ebenfalls organisiert. Die Übernachtung findet in der Feuerwehr Wol
 tersdorf statt. Dafür bitte Schlafsack oder Decke mitbringen.\n\nArbeitss
 chutz geht alle an\, daher müssen alle Teilnehmer in entsprechender HuPF 
 Einsatzbekleidung teilnehmen. Eventuell erforderlicher Regenschutz muss eb
 enfalls mitgebracht werden.\n\nWir bitten auch darum\, eure Boote (Mindest
 anforderung RTB 2) mitzubringen. Insgesamt werden 4 Boote benötigt. Bitte
  teilt uns in der Anmeldung mit\, ob ihr ein Boot mitbringen könnt.\n\nNa
 ch der Ausbildung erhalten die Teilnehmer eine Teilnahmebestätigung per E
 -Mail zugesendet. Daher ist die Angabe der persönlichen E-Mail Adresse\, 
 oder eine\, auf die nur der Teilnehmer Zugriff hat\, zwingend erforderlich
 . Die Weiterverteilung an entsprechende Stellen müssen die Teilnehmer dan
 n bei Bedarf oder Erfordernis selbst durchführen. Dasselbe gilt für die 
 Telefonnummer.\n\nAnmeldeschluss: 16.09.2022\n\nHier der Ablaufplan als PD
 F zum herunterladen.\n\nFeuerwehr Bootsführer Fortbildung
CATEGORIES:Seminare
LOCATION:Feuerwehr Woltersdorf\, Berliner Str. 7\, Woltersdorf\, 15569\, De
 utschland
X-APPLE-STRUCTURED-LOCATION;VALUE=URI;X-ADDRESS=Berliner Str. 7\, Woltersdo
 rf\, 15569\, Deutschland;X-APPLE-RADIUS=100;X-TITLE=Feuerwehr Woltersdorf:
 geo:0,0
END:VEVENT
BEGIN:VTIMEZONE
TZID:Europe/Berlin
X-LIC-LOCATION:Europe/Berlin
BEGIN:DAYLIGHT
DTSTART:20220327T030000
TZOFFSETFROM:+0100
TZOFFSETTO:+0200
TZNAME:CEST
END:DAYLIGHT
END:VTIMEZONE
END:VCALENDAR